BEGIN:VCALENDAR
VERSION:2.0
PRODID:sogde.org
BEGIN:VEVENT
UID:69e733d0ca479
DTSTART:20260320T173000Z
SEQUENCE:0
TRANSP:OPAQUE
DTEND:20260320T190000Z
URL:https://www.sogde.org/de/events/2026_03_ungarn-und-die-wahlen/
LOCATION:Seidlvilla\, Nikolaiplatz 1B\, 80802 München
SUMMARY:Ungarn und die Wahlen: Wie wahrscheinlich ist ein Sieg der Oppositi
 on?
CLASS:PUBLIC
DTSTAMP:20260421T082240Z
END:VEVENT
END:VCALENDAR